BEGIN:VCALENDAR
VERSION:2.0
PRODID:-//Four Marks Parish Council//Meeting Calendar//EN
CALSCALE:GREGORIAN
METHOD:PUBLISH
BEGIN:VEVENT
UID:70484-20250219@fourmarksparishcouncil.gov.uk
DTSTAMP:20260421T172928Z
DTSTART;VALUE=DATE:20250219
DTEND;VALUE=DATE:20250220
SUMMARY:Full Council Meeting &#8211\\; 19 February 2025
DESCRIPTION:Full Council Meeting\nView details: https://fourmarksparishcouncil.gov.uk/meetings/full-council-meeting-19-february-2025/
URL:https://fourmarksparishcouncil.gov.uk/meetings/full-council-meeting-19-february-2025/
END:VEVENT
END:VCALENDAR
