BEGIN:VCALENDAR
VERSION:2.0
PRODID:-//Four Marks Parish Council//Meeting Calendar//EN
CALSCALE:GREGORIAN
METHOD:PUBLISH
BEGIN:VEVENT
UID:70487-20250319@fourmarksparishcouncil.gov.uk
DTSTAMP:20260421T170853Z
DTSTART;VALUE=DATE:20250319
DTEND;VALUE=DATE:20250320
SUMMARY:Full Council Meeting &#8211\\; 19 March 2025
DESCRIPTION:Full Council Meeting\nView details: https://fourmarksparishcouncil.gov.uk/meetings/full-council-meeting-19-march-2025/
URL:https://fourmarksparishcouncil.gov.uk/meetings/full-council-meeting-19-march-2025/
END:VEVENT
END:VCALENDAR
