BEGIN:VCALENDAR
VERSION:2.0
PRODID:-//Four Marks Parish Council//Meeting Calendar//EN
CALSCALE:GREGORIAN
METHOD:PUBLISH
BEGIN:VEVENT
UID:70490-20250416@fourmarksparishcouncil.gov.uk
DTSTAMP:20260421T112137Z
DTSTART;VALUE=DATE:20250416
DTEND;VALUE=DATE:20250417
SUMMARY:Full Council Meeting &#8211\\; 16 April 2025
DESCRIPTION:Full Council Meeting\nView details: https://fourmarksparishcouncil.gov.uk/meetings/full-council-meeting-16-april-2025/
URL:https://fourmarksparishcouncil.gov.uk/meetings/full-council-meeting-16-april-2025/
END:VEVENT
END:VCALENDAR
