BEGIN:VCALENDAR
VERSION:2.0
PRODID:-//Four Marks Parish Council//Meeting Calendar//EN
CALSCALE:GREGORIAN
METHOD:PUBLISH
BEGIN:VEVENT
UID:70493-20250521@fourmarksparishcouncil.gov.uk
DTSTAMP:20260421T095316Z
DTSTART;VALUE=DATE:20250521
DTEND;VALUE=DATE:20250522
SUMMARY:Full Council Meeting &#8211\\; 21 May 2025
DESCRIPTION:Full Council Meeting\nView details: https://fourmarksparishcouncil.gov.uk/meetings/full-council-meeting-21-may-2025/
URL:https://fourmarksparishcouncil.gov.uk/meetings/full-council-meeting-21-may-2025/
END:VEVENT
END:VCALENDAR
