BEGIN:VCALENDAR
VERSION:2.0
PRODID:-//Four Marks Parish Council//Meeting Calendar//EN
CALSCALE:GREGORIAN
METHOD:PUBLISH
BEGIN:VEVENT
UID:70502-20250716@fourmarksparishcouncil.gov.uk
DTSTAMP:20260421T082617Z
DTSTART;VALUE=DATE:20250716
DTEND;VALUE=DATE:20250717
SUMMARY:Full Council Meeting &#8211\\; 16 July 2025
DESCRIPTION:Full Council Meeting\nView details: https://fourmarksparishcouncil.gov.uk/meetings/full-council-meeting-16-july-2025/
URL:https://fourmarksparishcouncil.gov.uk/meetings/full-council-meeting-16-july-2025/
END:VEVENT
END:VCALENDAR
