BEGIN:VCALENDAR
VERSION:2.0
PRODID:-//Four Marks Parish Council//Meeting Calendar//EN
CALSCALE:GREGORIAN
METHOD:PUBLISH
BEGIN:VEVENT
UID:70583-20250205@fourmarksparishcouncil.gov.uk
DTSTAMP:20260420T112534Z
DTSTART;VALUE=DATE:20250205
DTEND;VALUE=DATE:20250206
SUMMARY:Planning Committee Meeting &#8211\\; 5 February 2025
DESCRIPTION:Planning Committee Meeting\nView details: https://fourmarksparishcouncil.gov.uk/meetings/planning-committee-meeting-5-february-2025/
URL:https://fourmarksparishcouncil.gov.uk/meetings/planning-committee-meeting-5-february-2025/
END:VEVENT
END:VCALENDAR
