BEGIN:VCALENDAR
VERSION:2.0
PRODID:-//Four Marks Parish Council//Meeting Calendar//EN
CALSCALE:GREGORIAN
METHOD:PUBLISH
BEGIN:VEVENT
UID:70586-20250402@fourmarksparishcouncil.gov.uk
DTSTAMP:20260420T130150Z
DTSTART;VALUE=DATE:20250402
DTEND;VALUE=DATE:20250403
SUMMARY:Planning Committee Meeting &#8211\\; 2 April 2025
DESCRIPTION:Planning Committee Meeting\nView details: https://fourmarksparishcouncil.gov.uk/meetings/planning-committee-meeting-2-april-2025/
URL:https://fourmarksparishcouncil.gov.uk/meetings/planning-committee-meeting-2-april-2025/
END:VEVENT
END:VCALENDAR
