BEGIN:VCALENDAR
VERSION:2.0
PRODID:-//Four Marks Parish Council//Meeting Calendar//EN
CALSCALE:GREGORIAN
METHOD:PUBLISH
BEGIN:VEVENT
UID:70589-20250507@fourmarksparishcouncil.gov.uk
DTSTAMP:20260420T130007Z
DTSTART;VALUE=DATE:20250507
DTEND;VALUE=DATE:20250508
SUMMARY:Planning Committee Meeting &#8211\\; 7 May 2025
DESCRIPTION:Planning Committee Meeting\nView details: https://fourmarksparishcouncil.gov.uk/meetings/planning-committee-meeting-7-may-2025/
URL:https://fourmarksparishcouncil.gov.uk/meetings/planning-committee-meeting-7-may-2025/
END:VEVENT
END:VCALENDAR
