BEGIN:VCALENDAR
VERSION:2.0
PRODID:-//Four Marks Parish Council//Meeting Calendar//EN
CALSCALE:GREGORIAN
METHOD:PUBLISH
BEGIN:VEVENT
UID:70592-20250604@fourmarksparishcouncil.gov.uk
DTSTAMP:20260420T130818Z
DTSTART;VALUE=DATE:20250604
DTEND;VALUE=DATE:20250605
SUMMARY:Planning Committee Meeting &#8211\\; 4 June 2025
DESCRIPTION:Planning Committee Meeting\nView details: https://fourmarksparishcouncil.gov.uk/meetings/planning-committee-meeting-4-june-2025/
URL:https://fourmarksparishcouncil.gov.uk/meetings/planning-committee-meeting-4-june-2025/
END:VEVENT
END:VCALENDAR
