BEGIN:VCALENDAR
VERSION:2.0
PRODID:-//Four Marks Parish Council//Meeting Calendar//EN
CALSCALE:GREGORIAN
METHOD:PUBLISH
BEGIN:VEVENT
UID:70596-20240101@fourmarksparishcouncil.gov.uk
DTSTAMP:20260421T093346Z
DTSTART;VALUE=DATE:20240101
DTEND;VALUE=DATE:20240102
SUMMARY:Planning Committee Meetings &#8211\\; 2024
DESCRIPTION:Planning Committee Meeting\nView details: https://fourmarksparishcouncil.gov.uk/meetings/planning-committee-meetings-2024/
URL:https://fourmarksparishcouncil.gov.uk/meetings/planning-committee-meetings-2024/
END:VEVENT
END:VCALENDAR
