BEGIN:VCALENDAR
VERSION:2.0
PRODID:-//Four Marks Parish Council//Meeting Calendar//EN
CALSCALE:GREGORIAN
METHOD:PUBLISH
BEGIN:VEVENT
UID:70659-20250205@fourmarksparishcouncil.gov.uk
DTSTAMP:20260420T132042Z
DTSTART;VALUE=DATE:20250205
DTEND;VALUE=DATE:20250206
SUMMARY:Open Space Committee Meeting &#8211\\; 5 February 2025
DESCRIPTION:Open Space Committee Meeting\nView details: https://fourmarksparishcouncil.gov.uk/meetings/open-space-committee-meeting-5-february-2025/
URL:https://fourmarksparishcouncil.gov.uk/meetings/open-space-committee-meeting-5-february-2025/
END:VEVENT
END:VCALENDAR
