BEGIN:VCALENDAR
VERSION:2.0
PRODID:-//Four Marks Parish Council//Meeting Calendar//EN
CALSCALE:GREGORIAN
METHOD:PUBLISH
BEGIN:VEVENT
UID:70662-20250305@fourmarksparishcouncil.gov.uk
DTSTAMP:20260420T130844Z
DTSTART;VALUE=DATE:20250305
DTEND;VALUE=DATE:20250306
SUMMARY:Open Space Committee Meeting &#8211\\; 5 March 2025
DESCRIPTION:Open Space Committee Meeting\nView details: https://fourmarksparishcouncil.gov.uk/meetings/open-space-committee-meeting-5-march-2025/
URL:https://fourmarksparishcouncil.gov.uk/meetings/open-space-committee-meeting-5-march-2025/
END:VEVENT
END:VCALENDAR
