BEGIN:VCALENDAR
VERSION:2.0
PRODID:-//Four Marks Parish Council//Meeting Calendar//EN
CALSCALE:GREGORIAN
METHOD:PUBLISH
BEGIN:VEVENT
UID:70665-20250402@fourmarksparishcouncil.gov.uk
DTSTAMP:20260420T131003Z
DTSTART;VALUE=DATE:20250402
DTEND;VALUE=DATE:20250403
SUMMARY:Open Space Committee Meeting &#8211\\; 2 April 2025
DESCRIPTION:Open Space Committee Meeting\nView details: https://fourmarksparishcouncil.gov.uk/meetings/open-space-committee-meeting-2-april-2025/
URL:https://fourmarksparishcouncil.gov.uk/meetings/open-space-committee-meeting-2-april-2025/
END:VEVENT
END:VCALENDAR
