BEGIN:VCALENDAR
VERSION:2.0
PRODID:-//Four Marks Parish Council//Meeting Calendar//EN
CALSCALE:GREGORIAN
METHOD:PUBLISH
BEGIN:VEVENT
UID:70668-20250507@fourmarksparishcouncil.gov.uk
DTSTAMP:20260420T130946Z
DTSTART;VALUE=DATE:20250507
DTEND;VALUE=DATE:20250508
SUMMARY:Open Space Committee Meeting &#8211\\; 7 May 2025
DESCRIPTION:Open Space Committee Meeting\nView details: https://fourmarksparishcouncil.gov.uk/meetings/open-space-committee-meeting-7-may-2025/
URL:https://fourmarksparishcouncil.gov.uk/meetings/open-space-committee-meeting-7-may-2025/
END:VEVENT
END:VCALENDAR
