BEGIN:VCALENDAR
VERSION:2.0
PRODID:-//Four Marks Parish Council//Meeting Calendar//EN
CALSCALE:GREGORIAN
METHOD:PUBLISH
BEGIN:VEVENT
UID:70671-20250702@fourmarksparishcouncil.gov.uk
DTSTAMP:20260420T131121Z
DTSTART;VALUE=DATE:20250702
DTEND;VALUE=DATE:20250703
SUMMARY:Open Space Committee Meeting &#8211\\; 2 July 2025
DESCRIPTION:Open Space Committee Meeting\nView details: https://fourmarksparishcouncil.gov.uk/meetings/open-space-committee-meeting-2-july-2025/
URL:https://fourmarksparishcouncil.gov.uk/meetings/open-space-committee-meeting-2-july-2025/
END:VEVENT
END:VCALENDAR
