BEGIN:VCALENDAR
VERSION:2.0
PRODID:-//Four Marks Parish Council//Meeting Calendar//EN
CALSCALE:GREGORIAN
METHOD:PUBLISH
BEGIN:VEVENT
UID:70674-20240101@fourmarksparishcouncil.gov.uk
DTSTAMP:20260420T130435Z
DTSTART;VALUE=DATE:20240101
DTEND;VALUE=DATE:20240102
SUMMARY:Open Space Committee Meetings &#8211\\; 2024
DESCRIPTION:Open Space Committee Meeting\nView details: https://fourmarksparishcouncil.gov.uk/meetings/open-space-committee-meetings-2024/
URL:https://fourmarksparishcouncil.gov.uk/meetings/open-space-committee-meetings-2024/
END:VEVENT
END:VCALENDAR
