BEGIN:VCALENDAR
VERSION:2.0
PRODID:-//Four Marks Parish Council//Meeting Calendar//EN
CALSCALE:GREGORIAN
METHOD:PUBLISH
BEGIN:VEVENT
UID:70696-20230101@fourmarksparishcouncil.gov.uk
DTSTAMP:20260421T100859Z
DTSTART;VALUE=DATE:20230101
DTEND;VALUE=DATE:20230102
SUMMARY:Open Space Committee Meetings &#8211\\; 2023
DESCRIPTION:Open Space Committee Meeting\nView details: https://fourmarksparishcouncil.gov.uk/meetings/open-space-committee-meetings-2023/
URL:https://fourmarksparishcouncil.gov.uk/meetings/open-space-committee-meetings-2023/
END:VEVENT
END:VCALENDAR
