BEGIN:VCALENDAR
VERSION:2.0
PRODID:-//Four Marks Parish Council//Meeting Calendar//EN
CALSCALE:GREGORIAN
METHOD:PUBLISH
BEGIN:VEVENT
UID:70735-20250409@fourmarksparishcouncil.gov.uk
DTSTAMP:20260420T112546Z
DTSTART;VALUE=DATE:20250409
DTEND;VALUE=DATE:20250410
SUMMARY:Finance and General Purposes Committee Meeting &#8211\\; 9 April 2025
DESCRIPTION:Finance and General Purposes Committee Meeting\nView details: https://fourmarksparishcouncil.gov.uk/meetings/finance-and-general-purposes-committee-meeting-9-april-2025/
URL:https://fourmarksparishcouncil.gov.uk/meetings/finance-and-general-purposes-committee-meeting-9-april-2025/
END:VEVENT
END:VCALENDAR
