BEGIN:VCALENDAR
VERSION:2.0
PRODID:-//Four Marks Parish Council//Meeting Calendar//EN
CALSCALE:GREGORIAN
METHOD:PUBLISH
BEGIN:VEVENT
UID:70737-20250423@fourmarksparishcouncil.gov.uk
DTSTAMP:20260420T112643Z
DTSTART;VALUE=DATE:20250423
DTEND;VALUE=DATE:20250424
SUMMARY:Finance and General Purposes Committee Meeting &#8211\\; 23 April 2025
DESCRIPTION:Finance and General Purposes Committee Meeting\nView details: https://fourmarksparishcouncil.gov.uk/meetings/finance-and-general-purposes-committee-meeting-23-april-2025/
URL:https://fourmarksparishcouncil.gov.uk/meetings/finance-and-general-purposes-committee-meeting-23-april-2025/
END:VEVENT
END:VCALENDAR
