BEGIN:VCALENDAR
VERSION:2.0
PRODID:-//Four Marks Parish Council//Meeting Calendar//EN
CALSCALE:GREGORIAN
METHOD:PUBLISH
BEGIN:VEVENT
UID:70742-20240101@fourmarksparishcouncil.gov.uk
DTSTAMP:20260420T112720Z
DTSTART;VALUE=DATE:20240101
DTEND;VALUE=DATE:20240102
SUMMARY:Finance and General Purposes Committee Meetings &#8211\\; 2024
DESCRIPTION:Finance and General Purposes Committee Meeting\nView details: https://fourmarksparishcouncil.gov.uk/meetings/finance-and-general-purposes-committee-meetings-2024/
URL:https://fourmarksparishcouncil.gov.uk/meetings/finance-and-general-purposes-committee-meetings-2024/
END:VEVENT
END:VCALENDAR
