BEGIN:VCALENDAR
VERSION:2.0
PRODID:-//Four Marks Parish Council//Meeting Calendar//EN
CALSCALE:GREGORIAN
METHOD:PUBLISH
BEGIN:VEVENT
UID:70771-20250430@fourmarksparishcouncil.gov.uk
DTSTAMP:20260422T082055Z
DTSTART;VALUE=DATE:20250430
DTEND;VALUE=DATE:20250501
SUMMARY:Annual Parish Meeting &#8211\\; 30 April 2025
DESCRIPTION:Annual Parish Meeting\nView details: https://fourmarksparishcouncil.gov.uk/meetings/annual-parish-meeting-30-april-2025/
URL:https://fourmarksparishcouncil.gov.uk/meetings/annual-parish-meeting-30-april-2025/
END:VEVENT
END:VCALENDAR
