BEGIN:VCALENDAR
VERSION:2.0
PRODID:-//Four Marks Parish Council//Meeting Calendar//EN
CALSCALE:GREGORIAN
METHOD:PUBLISH
BEGIN:VEVENT
UID:70779-20220427@fourmarksparishcouncil.gov.uk
DTSTAMP:20260422T082009Z
DTSTART;VALUE=DATE:20220427
DTEND;VALUE=DATE:20220428
SUMMARY:Annual Parish Meeting &#8211\\; 27 April 2022
DESCRIPTION:Annual Parish Meeting\nView details: https://fourmarksparishcouncil.gov.uk/meetings/annual-parish-meeting-27-april-2022/
URL:https://fourmarksparishcouncil.gov.uk/meetings/annual-parish-meeting-27-april-2022/
END:VEVENT
END:VCALENDAR
