BEGIN:VCALENDAR
VERSION:2.0
PRODID:-//Four Marks Parish Council//Meeting Calendar//EN
CALSCALE:GREGORIAN
METHOD:PUBLISH
BEGIN:VEVENT
UID:70781-20230101@fourmarksparishcouncil.gov.uk
DTSTAMP:20260421T093412Z
DTSTART;VALUE=DATE:20230101
DTEND;VALUE=DATE:20230102
SUMMARY:Community Facilities Committee Meetings &#8211\\; 2023
DESCRIPTION:Community Facilities Committee Meeting\nView details: https://fourmarksparishcouncil.gov.uk/meetings/community-facilities-committee-meetings-2023/
URL:https://fourmarksparishcouncil.gov.uk/meetings/community-facilities-committee-meetings-2023/
END:VEVENT
END:VCALENDAR
