BEGIN:VCALENDAR
VERSION:2.0
PRODID:-//Four Marks Parish Council//Meeting Calendar//EN
CALSCALE:GREGORIAN
METHOD:PUBLISH
BEGIN:VEVENT
UID:70790-20220101@fourmarksparishcouncil.gov.uk
DTSTAMP:20260420T112709Z
DTSTART;VALUE=DATE:20220101
DTEND;VALUE=DATE:20220102
SUMMARY:Community Facilities Committee Meetings &#8211\\; 2022
DESCRIPTION:Community Facilities Committee Meeting\nView details: https://fourmarksparishcouncil.gov.uk/meetings/community-facilities-committee-meetings-2022/
URL:https://fourmarksparishcouncil.gov.uk/meetings/community-facilities-committee-meetings-2022/
END:VEVENT
END:VCALENDAR
