BEGIN:VCALENDAR
VERSION:2.0
PRODID:-//Four Marks Parish Council//Meeting Calendar//EN
CALSCALE:GREGORIAN
METHOD:PUBLISH
BEGIN:VEVENT
UID:70797-20230101@fourmarksparishcouncil.gov.uk
DTSTAMP:20260420T081537Z
DTSTART;VALUE=DATE:20230101
DTEND;VALUE=DATE:20230102
SUMMARY:Staffing Committee Meetings &#8211\\; 2023
DESCRIPTION:Staffing Committee Meeting\nView details: https://fourmarksparishcouncil.gov.uk/meetings/staffing-committee-meetings-2023/
URL:https://fourmarksparishcouncil.gov.uk/meetings/staffing-committee-meetings-2023/
END:VEVENT
END:VCALENDAR
