BEGIN:VCALENDAR
VERSION:2.0
PRODID:-//Four Marks Parish Council//Meeting Calendar//EN
CALSCALE:GREGORIAN
METHOD:PUBLISH
BEGIN:VEVENT
UID:70804-20220101@fourmarksparishcouncil.gov.uk
DTSTAMP:20260421T081024Z
DTSTART;VALUE=DATE:20220101
DTEND;VALUE=DATE:20220102
SUMMARY:Staffing Committee Meetings &#8211\\; 2022
DESCRIPTION:Staffing Committee Meeting\nView details: https://fourmarksparishcouncil.gov.uk/meetings/staffing-committee-meetings-2022/
URL:https://fourmarksparishcouncil.gov.uk/meetings/staffing-committee-meetings-2022/
END:VEVENT
END:VCALENDAR
