BEGIN:VCALENDAR
VERSION:2.0
PRODID:-//Four Marks Parish Council//Meeting Calendar//EN
CALSCALE:GREGORIAN
METHOD:PUBLISH
BEGIN:VEVENT
UID:71016-20240101@fourmarksparishcouncil.gov.uk
DTSTAMP:20260421T081025Z
DTSTART;VALUE=DATE:20240101
DTEND;VALUE=DATE:20240102
SUMMARY:Community Facilites Committee Meetings &#8211\\; 2024
DESCRIPTION:Community Facilities Committee Meeting\nView details: https://fourmarksparishcouncil.gov.uk/meetings/community-facilites-committee-meetings-2024/
URL:https://fourmarksparishcouncil.gov.uk/meetings/community-facilites-committee-meetings-2024/
END:VEVENT
END:VCALENDAR
