BEGIN:VCALENDAR
VERSION:2.0
PRODID:-//Four Marks Parish Council//Meeting Calendar//EN
CALSCALE:GREGORIAN
METHOD:PUBLISH
BEGIN:VEVENT
UID:71090-20250728@fourmarksparishcouncil.gov.uk
DTSTAMP:20260421T082304Z
DTSTART;VALUE=DATE:20250728
DTEND;VALUE=DATE:20250729
SUMMARY:Full Council &#8211\\; 28 July 2025
DESCRIPTION:Full Council Meeting\nView details: https://fourmarksparishcouncil.gov.uk/meetings/full-council-28-july-2025/
URL:https://fourmarksparishcouncil.gov.uk/meetings/full-council-28-july-2025/
END:VEVENT
END:VCALENDAR
