BEGIN:VCALENDAR
VERSION:2.0
PRODID:-//Four Marks Parish Council//Meeting Calendar//EN
CALSCALE:GREGORIAN
METHOD:PUBLISH
BEGIN:VEVENT
UID:71093-20250806@fourmarksparishcouncil.gov.uk
DTSTAMP:20260420T131514Z
DTSTART;VALUE=DATE:20250806
DTEND;VALUE=DATE:20250807
SUMMARY:Open Spaces committee meeting &#8211\\; 6 August 2025
DESCRIPTION:Open Space Committee Meeting\nView details: https://fourmarksparishcouncil.gov.uk/meetings/open-spaces-committee-meeting-6-august-2025/
URL:https://fourmarksparishcouncil.gov.uk/meetings/open-spaces-committee-meeting-6-august-2025/
END:VEVENT
END:VCALENDAR
