BEGIN:VCALENDAR
VERSION:2.0
PRODID:-//Four Marks Parish Council//Meeting Calendar//EN
CALSCALE:GREGORIAN
METHOD:PUBLISH
BEGIN:VEVENT
UID:71094-20250903@fourmarksparishcouncil.gov.uk
DTSTAMP:20260420T112545Z
DTSTART;VALUE=DATE:20250903
DTEND;VALUE=DATE:20250904
SUMMARY:Open Space Committee Meeting &#8211\\; 3 September 2025
DESCRIPTION:Open Space Committee Meeting\nView details: https://fourmarksparishcouncil.gov.uk/meetings/open-space-committee-meeting-3-september-2025/
URL:https://fourmarksparishcouncil.gov.uk/meetings/open-space-committee-meeting-3-september-2025/
END:VEVENT
END:VCALENDAR
