BEGIN:VCALENDAR
VERSION:2.0
PRODID:-//Four Marks Parish Council//Meeting Calendar//EN
CALSCALE:GREGORIAN
METHOD:PUBLISH
BEGIN:VEVENT
UID:71095-20251001@fourmarksparishcouncil.gov.uk
DTSTAMP:20260421T094818Z
DTSTART;VALUE=DATE:20251001
DTEND;VALUE=DATE:20251002
SUMMARY:Open Space Committee Meeting &#8211\\; 1 October 2025
DESCRIPTION:Open Space Committee Meeting\nView details: https://fourmarksparishcouncil.gov.uk/meetings/open-space-committee-meeting-1-oct-2025/
URL:https://fourmarksparishcouncil.gov.uk/meetings/open-space-committee-meeting-1-oct-2025/
END:VEVENT
END:VCALENDAR
