BEGIN:VCALENDAR
VERSION:2.0
PRODID:-//Four Marks Parish Council//Meeting Calendar//EN
CALSCALE:GREGORIAN
METHOD:PUBLISH
BEGIN:VEVENT
UID:71098-20251105@fourmarksparishcouncil.gov.uk
DTSTAMP:20260421T081032Z
DTSTART;VALUE=DATE:20251105
DTEND;VALUE=DATE:20251106
SUMMARY:Open Space Committee Meeting &#8211\\; 5 November 2025
DESCRIPTION:Open Space Committee Meeting\nView details: https://fourmarksparishcouncil.gov.uk/meetings/open-space-committee-meeting-5-november-2025/
URL:https://fourmarksparishcouncil.gov.uk/meetings/open-space-committee-meeting-5-november-2025/
END:VEVENT
END:VCALENDAR
