BEGIN:VCALENDAR
VERSION:2.0
PRODID:-//Four Marks Parish Council//Meeting Calendar//EN
CALSCALE:GREGORIAN
METHOD:PUBLISH
BEGIN:VEVENT
UID:71112-20251203@fourmarksparishcouncil.gov.uk
DTSTAMP:20260421T081247Z
DTSTART;VALUE=DATE:20251203
DTEND;VALUE=DATE:20251204
SUMMARY:Open Space committee meeting &#8211\\; 3 December 2025
DESCRIPTION:Open Space Committee Meeting\nView details: https://fourmarksparishcouncil.gov.uk/meetings/open-space-committee-meeting-3-dec-2025/
URL:https://fourmarksparishcouncil.gov.uk/meetings/open-space-committee-meeting-3-dec-2025/
END:VEVENT
END:VCALENDAR
