BEGIN:VCALENDAR
VERSION:2.0
PRODID:-//Four Marks Parish Council//Meeting Calendar//EN
CALSCALE:GREGORIAN
METHOD:PUBLISH
BEGIN:VEVENT
UID:71134-20251119@fourmarksparishcouncil.gov.uk
DTSTAMP:20260422T081807Z
DTSTART;VALUE=DATE:20251119
DTEND;VALUE=DATE:20251120
SUMMARY:Staffing Committee meetings &#8211\\; 2025
DESCRIPTION:Staffing Committee Meeting\nView details: https://fourmarksparishcouncil.gov.uk/meetings/staffing-committee/
URL:https://fourmarksparishcouncil.gov.uk/meetings/staffing-committee/
END:VEVENT
END:VCALENDAR
