BEGIN:VCALENDAR
VERSION:2.0
PRODID:-//Four Marks Parish Council//Meeting Calendar//EN
CALSCALE:GREGORIAN
METHOD:PUBLISH
BEGIN:VEVENT
UID:71177-20260107@fourmarksparishcouncil.gov.uk
DTSTAMP:20260420T081609Z
DTSTART;VALUE=DATE:20260107
DTEND;VALUE=DATE:20260108
SUMMARY:Open Space committee meeting &#8211\\; 7 Jan 2026
DESCRIPTION:Open Space Committee Meeting\nView details: https://fourmarksparishcouncil.gov.uk/meetings/open-spaces-jan-7-2026/
URL:https://fourmarksparishcouncil.gov.uk/meetings/open-spaces-jan-7-2026/
END:VEVENT
END:VCALENDAR
