BEGIN:VCALENDAR
VERSION:2.0
PRODID:-//Four Marks Parish Council//Meeting Calendar//EN
CALSCALE:GREGORIAN
METHOD:PUBLISH
BEGIN:VEVENT
UID:71179-20260107@fourmarksparishcouncil.gov.uk
DTSTAMP:20260422T082643Z
DTSTART;VALUE=DATE:20260107
DTEND;VALUE=DATE:20260108
SUMMARY:Planning committee meeting &#8211\\; 7 Jan 2026
DESCRIPTION:Planning Committee Meeting\nView details: https://fourmarksparishcouncil.gov.uk/meetings/planning-committee-meeting-7-jan-2026/
URL:https://fourmarksparishcouncil.gov.uk/meetings/planning-committee-meeting-7-jan-2026/
END:VEVENT
END:VCALENDAR
