BEGIN:VCALENDAR
VERSION:2.0
PRODID:-//Four Marks Parish Council//Meeting Calendar//EN
CALSCALE:GREGORIAN
METHOD:PUBLISH
BEGIN:VEVENT
UID:71224-20260112@fourmarksparishcouncil.gov.uk
DTSTAMP:20260422T082338Z
DTSTART;VALUE=DATE:20260112
DTEND;VALUE=DATE:20260113
SUMMARY:Finance and General Purposes committee meeting &#8211\\; 12 January 2026
DESCRIPTION:Finance and General Purposes Committee Meeting\nView details: https://fourmarksparishcouncil.gov.uk/meetings/finance-and-general-purposes-committee-meeting/
URL:https://fourmarksparishcouncil.gov.uk/meetings/finance-and-general-purposes-committee-meeting/
END:VEVENT
END:VCALENDAR
