BEGIN:VCALENDAR
VERSION:2.0
PRODID:-//Four Marks Parish Council//Meeting Calendar//EN
CALSCALE:GREGORIAN
METHOD:PUBLISH
BEGIN:VEVENT
UID:71227-20260114@fourmarksparishcouncil.gov.uk
DTSTAMP:20260422T082218Z
DTSTART;VALUE=DATE:20260114
DTEND;VALUE=DATE:20260115
SUMMARY:Community Facilities committee meeting &#8211\\; 14 Jan 2026
DESCRIPTION:Community Facilities Committee Meeting\nView details: https://fourmarksparishcouncil.gov.uk/meetings/community-facilities-committee-meeting-14-jan-2026/
URL:https://fourmarksparishcouncil.gov.uk/meetings/community-facilities-committee-meeting-14-jan-2026/
END:VEVENT
END:VCALENDAR
