BEGIN:VCALENDAR
VERSION:2.0
PRODID:-//Four Marks Parish Council//Meeting Calendar//EN
CALSCALE:GREGORIAN
METHOD:PUBLISH
BEGIN:VEVENT
UID:71247-20260204@fourmarksparishcouncil.gov.uk
DTSTAMP:20260422T082634Z
DTSTART;VALUE=DATE:20260204
DTEND;VALUE=DATE:20260205
SUMMARY:Open Spaces committee meeting &#8211\\; 4 Feb 2026
DESCRIPTION:Open Space Committee Meeting\nView details: https://fourmarksparishcouncil.gov.uk/meetings/open-spaces-committee-meeting-4-feb-2026/
URL:https://fourmarksparishcouncil.gov.uk/meetings/open-spaces-committee-meeting-4-feb-2026/
END:VEVENT
END:VCALENDAR
