BEGIN:VCALENDAR
VERSION:2.0
PRODID:-//Four Marks Parish Council//Meeting Calendar//EN
CALSCALE:GREGORIAN
METHOD:PUBLISH
BEGIN:VEVENT
UID:71251-20260204@fourmarksparishcouncil.gov.uk
DTSTAMP:20260420T081655Z
DTSTART;VALUE=DATE:20260204
DTEND;VALUE=DATE:20260205
SUMMARY:Planning committee meeting &#8211\\; 4 Feb 2026
DESCRIPTION:Planning Committee Meeting\nView details: https://fourmarksparishcouncil.gov.uk/meetings/planning-committee-4-feb-2026/
URL:https://fourmarksparishcouncil.gov.uk/meetings/planning-committee-4-feb-2026/
END:VEVENT
END:VCALENDAR
