BEGIN:VCALENDAR
VERSION:2.0
PRODID:-//Four Marks Parish Council//Meeting Calendar//EN
CALSCALE:GREGORIAN
METHOD:PUBLISH
BEGIN:VEVENT
UID:71260-20260211@fourmarksparishcouncil.gov.uk
DTSTAMP:20260420T081609Z
DTSTART;VALUE=DATE:20260211
DTEND;VALUE=DATE:20260212
SUMMARY:Staffing Committee meetings &#8211\\; 2026
DESCRIPTION:Staffing Committee Meeting\nView details: https://fourmarksparishcouncil.gov.uk/meetings/staffing-committee-2026/
URL:https://fourmarksparishcouncil.gov.uk/meetings/staffing-committee-2026/
END:VEVENT
END:VCALENDAR
