BEGIN:VCALENDAR
VERSION:2.0
PRODID:-//Four Marks Parish Council//Meeting Calendar//EN
CALSCALE:GREGORIAN
METHOD:PUBLISH
BEGIN:VEVENT
UID:71266-20250501@fourmarksparishcouncil.gov.uk
DTSTAMP:20260421T093504Z
DTSTART;VALUE=DATE:20250501
DTEND;VALUE=DATE:20250502
SUMMARY:Meeting Schedules
DESCRIPTION:Meeting schedule Meeting\nView details: https://fourmarksparishcouncil.gov.uk/meetings/meeting-schedules/
URL:https://fourmarksparishcouncil.gov.uk/meetings/meeting-schedules/
END:VEVENT
END:VCALENDAR
