BEGIN:VCALENDAR
VERSION:2.0
PRODID:-//Four Marks Parish Council//Meeting Calendar//EN
CALSCALE:GREGORIAN
METHOD:PUBLISH
BEGIN:VEVENT
UID:71268-20260211@fourmarksparishcouncil.gov.uk
DTSTAMP:20260420T100025Z
DTSTART;VALUE=DATE:20260211
DTEND;VALUE=DATE:20260212
SUMMARY:Community Facilities Committee meeting &#8211\\; 11 Feb 2026
DESCRIPTION:Community Facilities Committee Meeting\nView details: https://fourmarksparishcouncil.gov.uk/meetings/community-facilities-committee-meeting-11-feb-2026/
URL:https://fourmarksparishcouncil.gov.uk/meetings/community-facilities-committee-meeting-11-feb-2026/
END:VEVENT
END:VCALENDAR
