BEGIN:VCALENDAR
VERSION:2.0
PRODID:-//Four Marks Parish Council//Meeting Calendar//EN
CALSCALE:GREGORIAN
METHOD:PUBLISH
BEGIN:VEVENT
UID:71292-20260304@fourmarksparishcouncil.gov.uk
DTSTAMP:20260422T100106Z
DTSTART;VALUE=DATE:20260304
DTEND;VALUE=DATE:20260305
SUMMARY:Planning committee meeting &#8211\\; 4 March 2026
DESCRIPTION:Planning Committee Meeting\nView details: https://fourmarksparishcouncil.gov.uk/meetings/planning-committee-meeting-march-4-2026/
URL:https://fourmarksparishcouncil.gov.uk/meetings/planning-committee-meeting-march-4-2026/
END:VEVENT
END:VCALENDAR
