BEGIN:VCALENDAR
VERSION:2.0
PRODID:-//Four Marks Parish Council//Meeting Calendar//EN
CALSCALE:GREGORIAN
METHOD:PUBLISH
BEGIN:VEVENT
UID:71307-20260304@fourmarksparishcouncil.gov.uk
DTSTAMP:20260422T082643Z
DTSTART;VALUE=DATE:20260304
DTEND;VALUE=DATE:20260305
SUMMARY:Finance &#038\\; General Purposes &#8211\\; 4 March 2026
DESCRIPTION:Finance and General Purposes Committee Meeting\nView details: https://fourmarksparishcouncil.gov.uk/meetings/finance-general-purposes-4-march-2026/
URL:https://fourmarksparishcouncil.gov.uk/meetings/finance-general-purposes-4-march-2026/
END:VEVENT
END:VCALENDAR
