BEGIN:VCALENDAR
VERSION:2.0
PRODID:-//Four Marks Parish Council//Meeting Calendar//EN
CALSCALE:GREGORIAN
METHOD:PUBLISH
BEGIN:VEVENT
UID:71349-20260401@fourmarksparishcouncil.gov.uk
DTSTAMP:20260421T094533Z
DTSTART;VALUE=DATE:20260401
DTEND;VALUE=DATE:20260402
SUMMARY:Planning Committee &#8211\\; 1 April 2026
DESCRIPTION:Planning Committee Meeting\nView details: https://fourmarksparishcouncil.gov.uk/meetings/planning-committee-1-april-2026/
URL:https://fourmarksparishcouncil.gov.uk/meetings/planning-committee-1-april-2026/
END:VEVENT
END:VCALENDAR
