BEGIN:VCALENDAR
VERSION:2.0
PRODID:-//Four Marks Parish Council//Meeting Calendar//EN
CALSCALE:GREGORIAN
METHOD:PUBLISH
BEGIN:VEVENT
UID:71374-20260408@fourmarksparishcouncil.gov.uk
DTSTAMP:20260421T100138Z
DTSTART;VALUE=DATE:20260408
DTEND;VALUE=DATE:20260409
SUMMARY:Community Facilities committee &#8211\\; 8 April 2026
DESCRIPTION:Community Facilities Committee Meeting\nView details: https://fourmarksparishcouncil.gov.uk/meetings/community-facilities-committee-8-april-2026/
URL:https://fourmarksparishcouncil.gov.uk/meetings/community-facilities-committee-8-april-2026/
END:VEVENT
END:VCALENDAR
