BEGIN:VCALENDAR
VERSION:2.0
PRODID:-//Four Marks Parish Council//Meeting Calendar//EN
CALSCALE:GREGORIAN
METHOD:PUBLISH
BEGIN:VEVENT
UID:71382-20260429@fourmarksparishcouncil.gov.uk
DTSTAMP:20260420T081713Z
DTSTART;VALUE=DATE:20260429
DTEND;VALUE=DATE:20260430
SUMMARY:Annual Parish Meeting
DESCRIPTION:Annual Parish Meeting\nView details: https://fourmarksparishcouncil.gov.uk/meetings/annual-parish-meeting/
URL:https://fourmarksparishcouncil.gov.uk/meetings/annual-parish-meeting/
END:VEVENT
END:VCALENDAR
